BEGIN:VCALENDAR
VERSION:2.0
PRODID:lauti.bonfire.klasse-methode.it
METHOD:REQUEST
BEGIN:VEVENT
UID:0eb1c235-4e2c-4aea-8572-bb4e65d00da1
URL:https://lauti.bonfire.klasse-methode.it/event/0eb1c235-4e2c-4aea-8572-b
 b4e65d00da1
SUMMARY:foo
DTSTART:20260123T092323Z
CATEGORIES:foo\,bar
DESCRIPTION:
LOCATION:bar
END:VEVENT
END:VCALENDAR
